BEGIN:VCALENDAR
VERSION:2.0
PRODID:-//Three Trees Yoga - ECPv6.15.20//NONSGML v1.0//EN
CALSCALE:GREGORIAN
METHOD:PUBLISH
X-WR-CALNAME:Three Trees Yoga
X-ORIGINAL-URL:https://www.threetreesyoga.com
X-WR-CALDESC:Events for Three Trees Yoga
REFRESH-INTERVAL;VALUE=DURATION:PT1H
X-Robots-Tag:noindex
X-PUBLISHED-TTL:PT1H
BEGIN:VTIMEZONE
TZID:America/Los_Angeles
BEGIN:DAYLIGHT
TZOFFSETFROM:-0800
TZOFFSETTO:-0700
TZNAME:PDT
DTSTART:20240310T100000
END:DAYLIGHT
BEGIN:STANDARD
TZOFFSETFROM:-0700
TZOFFSETTO:-0800
TZNAME:PST
DTSTART:20241103T090000
END:STANDARD
BEGIN:DAYLIGHT
TZOFFSETFROM:-0800
TZOFFSETTO:-0700
TZNAME:PDT
DTSTART:20250309T100000
END:DAYLIGHT
BEGIN:STANDARD
TZOFFSETFROM:-0700
TZOFFSETTO:-0800
TZNAME:PST
DTSTART:20251102T090000
END:STANDARD
BEGIN:DAYLIGHT
TZOFFSETFROM:-0800
TZOFFSETTO:-0700
TZNAME:PDT
DTSTART:20260308T100000
END:DAYLIGHT
BEGIN:STANDARD
TZOFFSETFROM:-0700
TZOFFSETTO:-0800
TZNAME:PST
DTSTART:20261101T090000
END:STANDARD
END:VTIMEZONE
BEGIN:VEVENT
DTSTART;TZID=America/Los_Angeles:20251122T150000
DTEND;TZID=America/Los_Angeles:20251122T170000
DTSTAMP:20260421T141557
CREATED:20251022T194516Z
LAST-MODIFIED:20251025T170429Z
UID:11592-1763823600-1763830800@www.threetreesyoga.com
SUMMARY:Creative Sound ~ A Collaborative Sound & Painting Workshop: In Studio with Katie Beloved & Gina Rusconi
DESCRIPTION:Join Katie Hardin-Beloved and Gina Rusconi for an inspiring afternoon of painting and soundbath.\nOur second energy center harbors the creative tide waters of our emotional body & connection to the moon.  Katie will guide us through a crystal singing bowl sound and yoga journey to inspire our creativity and connect us to our sacral chakra. Gina will lead us through a painting and guided meditation designed to explore and express this energy center. \nCome soothe the waters of your soul through expression of paint and form of your body. \n\nNo painting experience necessary.All supplies will be provided. \n\n  \nTime: Saturday; November 22\, 3:00PM – 5:00PM \nCost: Individual $60\, Couple $110 \n  \n\n\n\nREGISTER HERE (in-person only)
URL:https://www.threetreesyoga.com/event/creative-sound-a-collaborative-sound-painting-workshop-in-studio-with-katie-beloved-gina-rusconi-3/
LOCATION:Three Trees Yoga\, 204 S 348th St Suite 2\, Federal Way\, WA\, 98003\, United States
CATEGORIES:All Events,Workshops
ATTACH;FMTTYPE=image/png:https://www.threetreesyoga.com/wp-content/uploads/2025/10/Sacral-Chakra-Social.png
END:VEVENT
END:VCALENDAR