BEGIN:VCALENDAR
VERSION:2.0
PRODID:-//Three Trees Yoga - ECPv6.15.20//NONSGML v1.0//EN
CALSCALE:GREGORIAN
METHOD:PUBLISH
X-WR-CALNAME:Three Trees Yoga
X-ORIGINAL-URL:https://www.threetreesyoga.com
X-WR-CALDESC:Events for Three Trees Yoga
REFRESH-INTERVAL;VALUE=DURATION:PT1H
X-Robots-Tag:noindex
X-PUBLISHED-TTL:PT1H
BEGIN:VTIMEZONE
TZID:America/Los_Angeles
BEGIN:DAYLIGHT
TZOFFSETFROM:-0800
TZOFFSETTO:-0700
TZNAME:PDT
DTSTART:20240310T100000
END:DAYLIGHT
BEGIN:STANDARD
TZOFFSETFROM:-0700
TZOFFSETTO:-0800
TZNAME:PST
DTSTART:20241103T090000
END:STANDARD
BEGIN:DAYLIGHT
TZOFFSETFROM:-0800
TZOFFSETTO:-0700
TZNAME:PDT
DTSTART:20250309T100000
END:DAYLIGHT
BEGIN:STANDARD
TZOFFSETFROM:-0700
TZOFFSETTO:-0800
TZNAME:PST
DTSTART:20251102T090000
END:STANDARD
BEGIN:DAYLIGHT
TZOFFSETFROM:-0800
TZOFFSETTO:-0700
TZNAME:PDT
DTSTART:20260308T100000
END:DAYLIGHT
BEGIN:STANDARD
TZOFFSETFROM:-0700
TZOFFSETTO:-0800
TZNAME:PST
DTSTART:20261101T090000
END:STANDARD
END:VTIMEZONE
BEGIN:VEVENT
DTSTART;TZID=America/Los_Angeles:20250927T150000
DTEND;TZID=America/Los_Angeles:20250927T170000
DTSTAMP:20260421T180339
CREATED:20250714T234020Z
LAST-MODIFIED:20250814T031026Z
UID:11496-1758985200-1758992400@www.threetreesyoga.com
SUMMARY:Creative Sound ~ A Collaborative Sound & Painting Workshop: In Studio with Katie Beloved & Gina Rusconi
DESCRIPTION:Awakening the Crown: A Yoga\, Sound Bath & Painting Experience \nJoin Katie and Gina for a serene\, multi-sensory journey exploring the Crown Chakra—the center of spiritual connection and higher consciousness. \nWe’ll begin with a gentle yoga flow and guided meditation to align body and mind\, followed by a healing sound bath tuned to the frequency of the crown. Intermixed into the experience will be an intuitive painting session\, using calming hues like violet\, white\, and gold to express your connection to divine energy. \nNo experience needed—just come with an open heart and a willingness to explore. \nReconnect. Reflect. Rise. \n\n  \nTime: Saturday; September 27\, 3:00PM – 5:00PM \nCost: Individual $60\, Couple $110 \n  \n\n\n\nREGISTER HERE (in-person only)
URL:https://www.threetreesyoga.com/event/creative-sound-a-collaborative-sound-painting-workshop-in-studio-with-katie-beloved-gina-rusconi-copy-4/
LOCATION:Three Trees Yoga\, 204 S 348th St Suite 2\, Federal Way\, WA\, 98003\, United States
CATEGORIES:All Events,Workshops
ATTACH;FMTTYPE=image/png:https://www.threetreesyoga.com/wp-content/uploads/2025/07/Mothers-Day.png
END:VEVENT
END:VCALENDAR