BEGIN:VCALENDAR
VERSION:2.0
PRODID:-//Three Trees Yoga - ECPv6.15.20//NONSGML v1.0//EN
CALSCALE:GREGORIAN
METHOD:PUBLISH
X-WR-CALNAME:Three Trees Yoga
X-ORIGINAL-URL:https://www.threetreesyoga.com
X-WR-CALDESC:Events for Three Trees Yoga
REFRESH-INTERVAL;VALUE=DURATION:PT1H
X-Robots-Tag:noindex
X-PUBLISHED-TTL:PT1H
BEGIN:VTIMEZONE
TZID:America/Los_Angeles
BEGIN:DAYLIGHT
TZOFFSETFROM:-0800
TZOFFSETTO:-0700
TZNAME:PDT
DTSTART:20250309T100000
END:DAYLIGHT
BEGIN:STANDARD
TZOFFSETFROM:-0700
TZOFFSETTO:-0800
TZNAME:PST
DTSTART:20251102T090000
END:STANDARD
BEGIN:DAYLIGHT
TZOFFSETFROM:-0800
TZOFFSETTO:-0700
TZNAME:PDT
DTSTART:20260308T100000
END:DAYLIGHT
BEGIN:STANDARD
TZOFFSETFROM:-0700
TZOFFSETTO:-0800
TZNAME:PST
DTSTART:20261101T090000
END:STANDARD
BEGIN:DAYLIGHT
TZOFFSETFROM:-0800
TZOFFSETTO:-0700
TZNAME:PDT
DTSTART:20270314T100000
END:DAYLIGHT
BEGIN:STANDARD
TZOFFSETFROM:-0700
TZOFFSETTO:-0800
TZNAME:PST
DTSTART:20271107T090000
END:STANDARD
END:VTIMEZONE
BEGIN:VEVENT
DTSTART;TZID=America/Los_Angeles:20260401T163000
DTEND;TZID=America/Los_Angeles:20260401T173000
DTSTAMP:20260423T062307
CREATED:20260310T194706Z
LAST-MODIFIED:20260310T195743Z
UID:11757-1775061000-1775064600@www.threetreesyoga.com
SUMMARY:Gentle Yoga & Guided Meditation\,  Awakening Energy - Setting Intentions from the Heart\, a 6 Week Series: In Studio or Online with Katie Bonnett
DESCRIPTION:Embodying Spring – Growth\, Renewal & Possibility \nJoin Katie Bonnett for a spring-inspired journey into growth\, renewal\, and possibility. This uplifting series blends mindful\, accessible movement with breath and meditation to support expansion\, clarity\, and the blossoming of your authentic self. \nGentle Yoga is perfect for those new or returning to yoga after an injury or hiatus\, people transitioning from a sedentary lifestyle\, or anyone seeking mindful movement and nervous system regulation. \nSix Week Series: Wednesdays; April 1st – May 6th\, 4:30PM – 5:30PM  \nCost: $130.00 \n\n\n\n\n\n\n\nREGISTER HERE (for 6 week Series Online or In-Person)
URL:https://www.threetreesyoga.com/event/gentle-yoga-guided-meditation-awakening-energy-setting-intentions-from-the-heart-a-6-week-series/
CATEGORIES:All Events,Series
ATTACH;FMTTYPE=image/png:https://www.threetreesyoga.com/wp-content/uploads/2026/03/Square-Gentle-Yoga-Meditation-Series-1.png
END:VEVENT
END:VCALENDAR