BEGIN:VCALENDAR
VERSION:2.0
PRODID:-//Three Trees Yoga - ECPv6.15.20//NONSGML v1.0//EN
CALSCALE:GREGORIAN
METHOD:PUBLISH
X-ORIGINAL-URL:https://www.threetreesyoga.com
X-WR-CALDESC:Events for Three Trees Yoga
REFRESH-INTERVAL;VALUE=DURATION:PT1H
X-Robots-Tag:noindex
X-PUBLISHED-TTL:PT1H
BEGIN:VTIMEZONE
TZID:America/Los_Angeles
BEGIN:DAYLIGHT
TZOFFSETFROM:-0800
TZOFFSETTO:-0700
TZNAME:PDT
DTSTART:20240310T100000
END:DAYLIGHT
BEGIN:STANDARD
TZOFFSETFROM:-0700
TZOFFSETTO:-0800
TZNAME:PST
DTSTART:20241103T090000
END:STANDARD
BEGIN:DAYLIGHT
TZOFFSETFROM:-0800
TZOFFSETTO:-0700
TZNAME:PDT
DTSTART:20250309T100000
END:DAYLIGHT
BEGIN:STANDARD
TZOFFSETFROM:-0700
TZOFFSETTO:-0800
TZNAME:PST
DTSTART:20251102T090000
END:STANDARD
BEGIN:DAYLIGHT
TZOFFSETFROM:-0800
TZOFFSETTO:-0700
TZNAME:PDT
DTSTART:20260308T100000
END:DAYLIGHT
BEGIN:STANDARD
TZOFFSETFROM:-0700
TZOFFSETTO:-0800
TZNAME:PST
DTSTART:20261101T090000
END:STANDARD
END:VTIMEZONE
BEGIN:VEVENT
DTSTART;TZID=America/Los_Angeles:20250219T163000
DTEND;TZID=America/Los_Angeles:20250219T173000
DTSTAMP:20260421T082526
CREATED:20241227T020523Z
LAST-MODIFIED:20250121T040036Z
UID:11347-1739982600-1739986200@www.threetreesyoga.com
SUMMARY:Gentle Yoga & Guided Meditation for Awakening Energy\, a 6 Week Series: In Studio or Online with Katie Bonnett
DESCRIPTION:Transition out of winter and into vitality with this 6-week Gentle Yoga series designed to awaken your energy. Through gentle poses\, breath practices\, and meditation\, we’ll cultivate grounding\, strength\, and balance\, leaving you refreshed and ready for the season of renewal. Gentle Yoga is a great option for beginners\, those transitioning from injury or a sedentary lifestyle or anyone seeking a slower paced\, mindful practice. \n\nThis is a six-week series that is well-suited to those who are looking for a relaxed\, gentle paced workout. A new theme is introduced for each series.  The poses are presented with many modifications\, making the class appealing to anyone with moderate physical\, medical or age-related challenges. Emphasis will be on improving balance\, developing conscious breathing\, cultivating strength and flexibility\, and calming the mind. Ideal for seniors\, individuals with MS\, Chronic Fatigue Syndrome or Fibromyalgia\, or those transitioning from illness/injury/surgery or a sedentary lifestyle. (Private consultation with the instructor is available if you are not sure whether you are suited to this class).\n \nSix Week Series: Wednesdays; February 19 – March 26\, 4:30PM – 5:30PM  \nCost: Support -$150\, Sustaining -$130\, Community -$100 \n\n\n\n\n\n\n\nREGISTER HERE (for 6 week Series Online or In-Person)
URL:https://www.threetreesyoga.com/event/gentle-yoga-guided-meditation/
LOCATION:Three Trees Yoga\, 204 S 348th St Suite 2\, Federal Way\, WA\, 98003\, United States
CATEGORIES:All Events,Series
ATTACH;FMTTYPE=image/png:https://www.threetreesyoga.com/wp-content/uploads/2024/12/Gentle-Yoga-Series-1-1.png
END:VEVENT
END:VCALENDAR